BEGIN:VCALENDAR
VERSION:2.0
PRODID:-//BHI - ECPv6.15.10//NONSGML v1.0//EN
CALSCALE:GREGORIAN
METHOD:PUBLISH
X-WR-CALNAME:BHI
X-ORIGINAL-URL:https://brainhealthinstitute.rutgers.edu
X-WR-CALDESC:Events for BHI
REFRESH-INTERVAL;VALUE=DURATION:PT1H
X-Robots-Tag:noindex
X-PUBLISHED-TTL:PT1H
BEGIN:VTIMEZONE
TZID:America/New_York
BEGIN:DAYLIGHT
TZOFFSETFROM:-0500
TZOFFSETTO:-0400
TZNAME:EDT
DTSTART:20250309T070000
END:DAYLIGHT
BEGIN:STANDARD
TZOFFSETFROM:-0400
TZOFFSETTO:-0500
TZNAME:EST
DTSTART:20251102T060000
END:STANDARD
BEGIN:DAYLIGHT
TZOFFSETFROM:-0500
TZOFFSETTO:-0400
TZNAME:EDT
DTSTART:20260308T070000
END:DAYLIGHT
BEGIN:STANDARD
TZOFFSETFROM:-0400
TZOFFSETTO:-0500
TZNAME:EST
DTSTART:20261101T060000
END:STANDARD
BEGIN:DAYLIGHT
TZOFFSETFROM:-0500
TZOFFSETTO:-0400
TZNAME:EDT
DTSTART:20270314T070000
END:DAYLIGHT
BEGIN:STANDARD
TZOFFSETFROM:-0400
TZOFFSETTO:-0500
TZNAME:EST
DTSTART:20271107T060000
END:STANDARD
END:VTIMEZONE
BEGIN:VEVENT
DTSTART;TZID=America/New_York:20260417T093000
DTEND;TZID=America/New_York:20260417T103000
DTSTAMP:20260424T182527
CREATED:20260219T130411Z
LAST-MODIFIED:20260401T131338Z
UID:7448-1776418200-1776421800@brainhealthinstitute.rutgers.edu
SUMMARY:Eating Disorders Lecture: Kelly Klump\, PhD - Michigan State University
DESCRIPTION:Join us on Friday\, April 17 (9:30–10:30 AM ET) for a distinguished lecture by Kelly L. Klump\, PhD\, MSU Research Foundation Distinguished Professor and Co-Director of the Michigan State University Twin Registry. Dr. Klump will present “Critical Roles for Puberty and Ovarian Hormones in Genetic Risk for Binge Eating: Evidence from Human and Animal Models.” The event will be held in person at CABM with a virtual option available; light breakfast will be served for in-person attendees. RSVP required.\n\nPlease confirm your attendance by completing this RSVP form: https://rutgers.ca1.qualtrics.com/jfe/form/SV_ai93VpMy5fxySGO
URL:https://brainhealthinstitute.rutgers.edu/event/eating-disorders-lecture-kelly-klump-phd/
ATTACH;FMTTYPE=image/png:https://brainhealthinstitute.rutgers.edu/wp-content/uploads/2026/02/April-17_Eating-Disorders-Lecture_Klump.png
END:VEVENT
END:VCALENDAR