BEGIN:VCALENDAR
VERSION:2.0
PRODID:-//BHI - ECPv6.15.10//NONSGML v1.0//EN
CALSCALE:GREGORIAN
METHOD:PUBLISH
X-WR-CALNAME:BHI
X-ORIGINAL-URL:https://brainhealthinstitute.rutgers.edu
X-WR-CALDESC:Events for BHI
REFRESH-INTERVAL;VALUE=DURATION:PT1H
X-Robots-Tag:noindex
X-PUBLISHED-TTL:PT1H
BEGIN:VTIMEZONE
TZID:America/New_York
BEGIN:DAYLIGHT
TZOFFSETFROM:-0500
TZOFFSETTO:-0400
TZNAME:EDT
DTSTART:20250309T070000
END:DAYLIGHT
BEGIN:STANDARD
TZOFFSETFROM:-0400
TZOFFSETTO:-0500
TZNAME:EST
DTSTART:20251102T060000
END:STANDARD
BEGIN:DAYLIGHT
TZOFFSETFROM:-0500
TZOFFSETTO:-0400
TZNAME:EDT
DTSTART:20260308T070000
END:DAYLIGHT
BEGIN:STANDARD
TZOFFSETFROM:-0400
TZOFFSETTO:-0500
TZNAME:EST
DTSTART:20261101T060000
END:STANDARD
BEGIN:DAYLIGHT
TZOFFSETFROM:-0500
TZOFFSETTO:-0400
TZNAME:EDT
DTSTART:20270314T070000
END:DAYLIGHT
BEGIN:STANDARD
TZOFFSETFROM:-0400
TZOFFSETTO:-0500
TZNAME:EST
DTSTART:20271107T060000
END:STANDARD
END:VTIMEZONE
BEGIN:VEVENT
DTSTART;TZID=America/New_York:20260512T100000
DTEND;TZID=America/New_York:20260512T110000
DTSTAMP:20260422T201109
CREATED:20260401T183340Z
LAST-MODIFIED:20260401T183340Z
UID:8454-1778580000-1778583600@brainhealthinstitute.rutgers.edu
SUMMARY:RWJ-NCB Seminar Series (Hybrid): Dr. Thomas S. Vierbuchen - Sloan Kettering Institute
DESCRIPTION:“A Pluripotent Stem Cell Platform for Systems Genetics Studies of Mouse Development and Disease”\nPlease join us on Tuesday\, May 12\, 2026 at 10:00 am in the Research Tower\, Room V12 for an RWJ-Department of Neuroscience and Cell Biology Seminar Series featuring Thomas S. Vierbuchen\, PhD\, Assistant Member\, Developmental Biology Program in the Center for Stem Cell Biology at Sloan Kettering Institute.  The host for this seminar is Dr. Tulsi Patel (RWJ-Neuroscience and Cell Biology).  All are welcome to attend.     \nClick Here to Join \nMeeting ID: 991 8562 6685; Password: 134629
URL:https://brainhealthinstitute.rutgers.edu/event/rwj-ncb-seminar-series-hybrid-dr-thomas-s-vierbuchen-sloan-kettering-institute/
LOCATION:Research Tower\, Room V12
END:VEVENT
BEGIN:VEVENT
DTSTART;VALUE=DATE:20260519
DTEND;VALUE=DATE:20260521
DTSTAMP:20260422T201109
CREATED:20251224T025926Z
LAST-MODIFIED:20260127T062536Z
UID:6934-1779148800-1779321599@brainhealthinstitute.rutgers.edu
SUMMARY:2026 Rutgers Health and Rutgers Brain Health Institute Postdoc Peek: Postdoc Recruitment Event
DESCRIPTION:Rutgers Health and Rutgers Brain Health Institute (BHI) invite senior graduate students and early postdoc fellows to apply for Postdoc Peek\, a two-day\, all-expenses-paid\, on-campus visit on May 19–20\, 2026. \nParticipants will explore postdoctoral training and research opportunities in a wide variety of disciplines at Rutgers\, connect with faculty\, and learn about life and research across Rutgers campuses. Learn more \nKey Dates: \n\nApplication submission deadline: February 23\nFaculty application review period: February 24 – March 23\nVirtual information session: March 23\, 12–2 PM\nFaculty Zoom interviews with top candidates: March 24 – April 6\nOn-campus visit for selected candidates: May 19–20\n\nPlease fill out this application form. If you have any questions\, require further information\, or have trouble submitting your application\, please don’t hesitate to reach out to us by email
URL:https://brainhealthinstitute.rutgers.edu/event/rutgers-health-and-bhi-postdoc-peek-postdoc-recruitment-event/
ATTACH;FMTTYPE=image/png:https://brainhealthinstitute.rutgers.edu/wp-content/uploads/2025/12/2026-Postdoc-Peek_Flyer_V5.png
END:VEVENT
BEGIN:VEVENT
DTSTART;TZID=America/New_York:20260611T130000
DTEND;TZID=America/New_York:20260611T170000
DTSTAMP:20260422T201109
CREATED:20251217T210943Z
LAST-MODIFIED:20260311T060613Z
UID:6878-1781182800-1781197200@brainhealthinstitute.rutgers.edu
SUMMARY:Conducting Industry-Sponsored CNS Clinical Trials at Rutgers – June 11\, 2026
DESCRIPTION:Learn more and register now: https://brainhealthinstitute.rutgers.edu/conducting-industry-sponsored-cns-clinical-trials-at-rutgers/ \nRutgers University offers unique resources to support industry-sponsored clinical trials examining central nervous system (CNS) therapeutics. Key resources include New Jersey’s only Clinical and Translational Science Award (CTSA) Center\, Center for Advanced Human Brain Imaging Research (CAHBIR)\, and specialized research cores for biospecimen processing and behavioral assessment. This is a half-day event on June 11\, 2026\, from 1 to 5 PM in the Richard Weeks Hall of Engineering\, Busch Campus\, Piscataway NJ. The event is sponsored by Rutgers Brain Health Institute\, New Jersey Alliance for Clinical and Translational Science\, and Rutgers Office for Research. \n\nDiscover Rutgers’ integrated infrastructure supporting clinical trials\, including recruitment\, regulatory mechanisms\, and advanced data collection and analysis.\nLearn from successful CNS clinical trials at Rutgers that transformed neuroscience research into therapeutic advancements.\nConnect one-on-one with key faculty and research core directors to explore how Rutgers’ research cores and clinical trials experts can collaborate with your company.\nDiscuss potential projects\, including early-phase CNS clinical trials with specialized recruitment and assessment requirements.
URL:https://brainhealthinstitute.rutgers.edu/event/cns-related-clinical-trials-event/
LOCATION:Richard Weeks Hall of Engineering\, Busch Campus\, Piscataway NJ
ATTACH;FMTTYPE=image/png:https://brainhealthinstitute.rutgers.edu/wp-content/uploads/2025/12/CNS-Clinical-Trials_June-11-2026.png
END:VEVENT
BEGIN:VEVENT
DTSTART;VALUE=DATE:20260911
DTEND;VALUE=DATE:20260912
DTSTAMP:20260422T201109
CREATED:20260304T161025Z
LAST-MODIFIED:20260304T161025Z
UID:7750-1789084800-1789171199@brainhealthinstitute.rutgers.edu
SUMMARY:5th Annual RARC Symposium
DESCRIPTION:Save the date for the Rutgers Addiction Research Center (RARC) 5th Annual Symposium. The all-day event will showcase cutting-edge addiction research\, clinical insights\, and community partnerships across Rutgers.
URL:https://brainhealthinstitute.rutgers.edu/event/5th-annual-rarc-symposium/
END:VEVENT
BEGIN:VEVENT
DTSTART;TZID=America/New_York:20260917T120000
DTEND;TZID=America/New_York:20260917T130000
DTSTAMP:20260422T201109
CREATED:20260224T020949Z
LAST-MODIFIED:20260224T020949Z
UID:7604-1789646400-1789650000@brainhealthinstitute.rutgers.edu
SUMMARY:BHI Plenary Seminar: Jonathan Kipnis\, PhD
DESCRIPTION:Plenary Speaker: Jonathan Kipnis\, PhD\nBJC Investigator\, Alan A. and Edith L. Wolff Distinguished Professor of Pathology and Immunology\, Washington University in St. Louis \nDr. Kipnis focuses on the complex interactions between the immune system and the central nervous system to elucidate the cellular and molecular mechanisms underlying these interactions in neurodegenerative\, neurodevelopmental\, and mental disorders as well as in physiology (including healthy aging). Learn more \nHosted by Mi-Hyeon Jang\, PhD & Max Tischfield\, PhD (Neurosurgery/RWJMS)
URL:https://brainhealthinstitute.rutgers.edu/event/bhi-plenary-seminar-jonathan-kipnis-phd/
ATTACH;FMTTYPE=image/png:https://brainhealthinstitute.rutgers.edu/wp-content/uploads/2026/02/Plenary-Speaker-Flyer-Fall-2026.png
END:VEVENT
BEGIN:VEVENT
DTSTART;VALUE=DATE:20260924
DTEND;VALUE=DATE:20260925
DTSTAMP:20260422T201109
CREATED:20260219T114536Z
LAST-MODIFIED:20260304T160934Z
UID:7446-1790208000-1790294399@brainhealthinstitute.rutgers.edu
SUMMARY:2026 NJACE and RUCARES Conference
DESCRIPTION:More information will be available soon.
URL:https://brainhealthinstitute.rutgers.edu/event/2026-njace-and-rucares-conference/
END:VEVENT
BEGIN:VEVENT
DTSTART;TZID=America/New_York:20261001T120000
DTEND;TZID=America/New_York:20261001T130000
DTSTAMP:20260422T201109
CREATED:20260224T021229Z
LAST-MODIFIED:20260224T021626Z
UID:7607-1790856000-1790859600@brainhealthinstitute.rutgers.edu
SUMMARY:BHI Plenary Seminar: Scott J Russo\, PhD
DESCRIPTION:Plenary Seminar: Scott J Russo\, PhD\nProfessor of Neuroscience\, Director of the Center for Affective Neuroscience and the Brain Body Research Center\, Icahn School of Medicine at Mount Sinai \nDr. Russo’s lab studies the neural and immunological mechanisms of neuropsychiatric disorders such as depression and anxiety to understand how the brain and body adapts to stress to control pathological behaviors in depression and anxiety. Learn more \nHosted by Yong Kim\, PhD (Neurosurgery/RWJMS)
URL:https://brainhealthinstitute.rutgers.edu/event/bhi-plenary-seminar-scott-j-russo-phd/
ATTACH;FMTTYPE=image/png:https://brainhealthinstitute.rutgers.edu/wp-content/uploads/2026/02/Plenary-Speaker-Flyer-Fall-2026.png
END:VEVENT
BEGIN:VEVENT
DTSTART;VALUE=DATE:20261202
DTEND;VALUE=DATE:20261203
DTSTAMP:20260422T201109
CREATED:20260220T034635Z
LAST-MODIFIED:20260221T060854Z
UID:7459-1796169600-1796255999@brainhealthinstitute.rutgers.edu
SUMMARY:12th Annual Rutgers Brain Health Institute Symposium
DESCRIPTION:Keynote Speaker: Joseph E LeDoux\nDr. LeDoux is Professor Emeritus at New York University\, where he was a University Professor\, Henry and Lucy Moses Professor\, Professor of Neural Science and Psychology\, and Professor of Psychiatry and Child and Adolescent Psychiatry at NYU Langone Medical School. He is an elected member of the National Academy of Sciences and the American Academy of Arts and Sciences. His work has focused on the topics of emotion\, memory\, and consciousness and their interaction in the brain. Learn more \nMore information will be available soon! \nRead the 11th Annual BHI Symposium recap
URL:https://brainhealthinstitute.rutgers.edu/event/12th-annual-rutgers-brain-health-institute-symposium/
END:VEVENT
BEGIN:VEVENT
DTSTART;TZID=America/New_York:20261210T120000
DTEND;TZID=America/New_York:20261210T130000
DTSTAMP:20260422T201109
CREATED:20260224T021520Z
LAST-MODIFIED:20260224T021527Z
UID:7611-1796904000-1796907600@brainhealthinstitute.rutgers.edu
SUMMARY:BHI Plenary Seminar: Lin Tian\, PhD
DESCRIPTION:Plenary Seminar: Lin Tian\, PhD\nScientific Director\, Max Planck Florida Institute \nDr. Tian’s lab focuses on technological innovation and interdisciplinary collaboration to uncover the connection between brain function and behavior in healthy and diseased states\, such as neurological and psychiatric disorders. Learn more \nHosted by Miriam Bocarsly\, PhD (Pharmacology\, Physiology and Neuroscience/NJMS)
URL:https://brainhealthinstitute.rutgers.edu/event/bhi-plenary-seminar-lin-tian-phd/
ATTACH;FMTTYPE=image/png:https://brainhealthinstitute.rutgers.edu/wp-content/uploads/2026/02/Plenary-Speaker-Flyer-Fall-2026.png
END:VEVENT
END:VCALENDAR