BEGIN:VCALENDAR
VERSION:2.0
PRODID:-//BHI - ECPv6.15.10//NONSGML v1.0//EN
CALSCALE:GREGORIAN
METHOD:PUBLISH
X-WR-CALNAME:BHI
X-ORIGINAL-URL:https://brainhealthinstitute.rutgers.edu
X-WR-CALDESC:Events for BHI
REFRESH-INTERVAL;VALUE=DURATION:PT1H
X-Robots-Tag:noindex
X-PUBLISHED-TTL:PT1H
BEGIN:VTIMEZONE
TZID:America/New_York
BEGIN:DAYLIGHT
TZOFFSETFROM:-0500
TZOFFSETTO:-0400
TZNAME:EDT
DTSTART:20240310T070000
END:DAYLIGHT
BEGIN:STANDARD
TZOFFSETFROM:-0400
TZOFFSETTO:-0500
TZNAME:EST
DTSTART:20241103T060000
END:STANDARD
BEGIN:DAYLIGHT
TZOFFSETFROM:-0500
TZOFFSETTO:-0400
TZNAME:EDT
DTSTART:20250309T070000
END:DAYLIGHT
BEGIN:STANDARD
TZOFFSETFROM:-0400
TZOFFSETTO:-0500
TZNAME:EST
DTSTART:20251102T060000
END:STANDARD
BEGIN:DAYLIGHT
TZOFFSETFROM:-0500
TZOFFSETTO:-0400
TZNAME:EDT
DTSTART:20260308T070000
END:DAYLIGHT
BEGIN:STANDARD
TZOFFSETFROM:-0400
TZOFFSETTO:-0500
TZNAME:EST
DTSTART:20261101T060000
END:STANDARD
END:VTIMEZONE
BEGIN:VEVENT
DTSTART;TZID=America/New_York:20251201T120000
DTEND;TZID=America/New_York:20251201T130000
DTSTAMP:20260419T112452
CREATED:20251105T172910Z
LAST-MODIFIED:20251105T172910Z
UID:6120-1764590400-1764594000@brainhealthinstitute.rutgers.edu
SUMMARY:BHI-CAHBIR Faculty Candidate Seminar: Runnan Cao\, PhD
DESCRIPTION:“A Neural Computational Pathway Underlying Face Perception”\nSpeaker: Runnan Cao\, PhD\nInstructor\, Department of Radiology\, Washington University in St. Louis\, St. Louis\, MO \nDate and Time: Monday\, Dec 1\, 2025\, 12:00 PM \nJoin Zoom Meeting: https://rutgers.zoom.us/j/94089898806?pwd=vqgiBhRB0uhBQStbdINUIjegewMYpV.1\nMeeting ID: 940 8989 8806  |  Password: 12345
URL:https://brainhealthinstitute.rutgers.edu/event/bhi-cahbir-faculty-candidate-seminar-runnan-cao-phd/
ATTACH;FMTTYPE=image/png:https://brainhealthinstitute.rutgers.edu/wp-content/uploads/2025/11/Candidate-Seminar_CAHBIR_Runnan-Cao.png
END:VEVENT
END:VCALENDAR